BEGIN:VCALENDAR
VERSION:2.0
PRODID:-//Canadian Feminist - ECPv6.15.20//NONSGML v1.0//EN
CALSCALE:GREGORIAN
METHOD:PUBLISH
X-WR-CALNAME:Canadian Feminist
X-ORIGINAL-URL:https://canadianfeminist.com
X-WR-CALDESC:Events for Canadian Feminist
REFRESH-INTERVAL;VALUE=DURATION:PT1H
X-Robots-Tag:noindex
X-PUBLISHED-TTL:PT1H
BEGIN:VTIMEZONE
TZID:UTC
BEGIN:STANDARD
TZOFFSETFROM:+0000
TZOFFSETTO:+0000
TZNAME:UTC
DTSTART:20250101T000000
END:STANDARD
END:VTIMEZONE
BEGIN:VEVENT
DTSTART;VALUE=DATE:20260711
DTEND;VALUE=DATE:20260715
DTSTAMP:20260420T055244
CREATED:20251231T212333Z
LAST-MODIFIED:20251231T212333Z
UID:6249-1783728000-1784073599@canadianfeminist.com
SUMMARY:Zonta International Convention
DESCRIPTION:  \nZonta International Convention\nDate: July 11–14\, 2026\nLocation: Vancouver\, BC\nDetails: Global convention advancing women’s rights and empowerment.
URL:https://canadianfeminist.com/program/zonta-international-convention/
CATEGORIES:Upcoming
END:VEVENT
BEGIN:VEVENT
DTSTART;VALUE=DATE:20260722
DTEND;VALUE=DATE:20260725
DTSTAMP:20260420T055244
CREATED:20251231T220024Z
LAST-MODIFIED:20251231T220024Z
UID:6265-1784678400-1784937599@canadianfeminist.com
SUMMARY:Prisme Conference (LGBTQ2+ Lawyers)
DESCRIPTION:  \nUnity in Law: Shaping the Future of 2SLGBTQ+ Rights — Join Prisme 2026\nThe Canadian Association of LGBTQ2S+ Lawyers (Call-Acal) invites you to attend the fifth Prisme Conference\, Canada’s annual 2SLGBTQ+ law conference. Prisme 2026 will take place in Halifax\, Nova Scotia at the Halifax Convention Centre.
URL:https://canadianfeminist.com/program/prisme-conference-lgbtq2-lawyers/
LOCATION:Halifax Convention Centre\, Halifax\, Nova Scotia\, Canada
CATEGORIES:Upcoming
END:VEVENT
BEGIN:VEVENT
DTSTART;VALUE=DATE:20261210
DTEND;VALUE=DATE:20261211
DTSTAMP:20260420T055244
CREATED:20251231T220306Z
LAST-MODIFIED:20251231T220306Z
UID:6269-1796860800-1796947199@canadianfeminist.com
SUMMARY:Human Rights Day
DESCRIPTION:Human Rights Day\nDate: December 10 (annual)\nLocation: Global\nDetails: Marks adoption of Universal Declaration of Human Rights.
URL:https://canadianfeminist.com/program/human-rights-day/
CATEGORIES:Upcoming
END:VEVENT
END:VCALENDAR