BEGIN:VCALENDAR
VERSION:2.0
PRODID:-//Canadian Feminist - ECPv6.15.20//NONSGML v1.0//EN
CALSCALE:GREGORIAN
METHOD:PUBLISH
X-WR-CALNAME:Canadian Feminist
X-ORIGINAL-URL:https://canadianfeminist.com
X-WR-CALDESC:Events for Canadian Feminist
REFRESH-INTERVAL;VALUE=DURATION:PT1H
X-Robots-Tag:noindex
X-PUBLISHED-TTL:PT1H
BEGIN:VTIMEZONE
TZID:America/New_York
BEGIN:DAYLIGHT
TZOFFSETFROM:-0500
TZOFFSETTO:-0400
TZNAME:EDT
DTSTART:20250309T070000
END:DAYLIGHT
BEGIN:STANDARD
TZOFFSETFROM:-0400
TZOFFSETTO:-0500
TZNAME:EST
DTSTART:20251102T060000
END:STANDARD
BEGIN:DAYLIGHT
TZOFFSETFROM:-0500
TZOFFSETTO:-0400
TZNAME:EDT
DTSTART:20260308T070000
END:DAYLIGHT
BEGIN:STANDARD
TZOFFSETFROM:-0400
TZOFFSETTO:-0500
TZNAME:EST
DTSTART:20261101T060000
END:STANDARD
BEGIN:DAYLIGHT
TZOFFSETFROM:-0500
TZOFFSETTO:-0400
TZNAME:EDT
DTSTART:20270314T070000
END:DAYLIGHT
BEGIN:STANDARD
TZOFFSETFROM:-0400
TZOFFSETTO:-0500
TZNAME:EST
DTSTART:20271107T060000
END:STANDARD
END:VTIMEZONE
BEGIN:VTIMEZONE
TZID:UTC
BEGIN:STANDARD
TZOFFSETFROM:+0000
TZOFFSETTO:+0000
TZNAME:UTC
DTSTART:20250101T000000
END:STANDARD
END:VTIMEZONE
BEGIN:VEVENT
DTSTART;VALUE=DATE:20260411
DTEND;VALUE=DATE:20260412
DTSTAMP:20260420T055246
CREATED:20251231T213041Z
LAST-MODIFIED:20251231T221101Z
UID:6252-1775865600-1775951999@canadianfeminist.com
SUMMARY:MinoFest '26: The Racialized Reproductive and Maternal Health Conference
DESCRIPTION:Overview\n\n\n\n\n\nMinoFest returns April 11\, 2026\, uniting professionals and communities to advance racialized perinatal health through equity\, data\, and care\n\n\n\nMinoFest returns on April 11\, 2026\, uniting healthcare professionals\, advocates\, researchers\, policymakers\, technology leaders\, and parents to advance racialized perinatal and reproductive health. Hosted by Mino Care\, the conference is Canada’s leading forum dedicated to equity\, innovation\, and community driven care. Rooted in the meaning of Mino as Our Mothers\, MinoFest creates space to examine systemic inequities and promote culturally safe approaches to perinatal health. \nThe 2026 program focuses on navigating data and systems in perinatal and reproductive healthcare. Attendees will explore how data is collected\, governed\, protected\, and mobilized to improve outcomes for racialized communities. Through keynote presentations\, expert panels\, and more than 40 breakout sessions\, participants will engage in evidence based and ethical conversations that support collaboration\, accountability\, and meaningful systems change across sectors.
URL:https://canadianfeminist.com/program/minofest-26-the-racialized-reproductive-and-maternal-health-conference/
LOCATION:North York General Hospital\, 4001 Leslie Street\, Toronto\, Ontario\, M2K 1E1\, Canada
CATEGORIES:Upcoming
END:VEVENT
BEGIN:VEVENT
DTSTART;VALUE=DATE:20260427
DTEND;VALUE=DATE:20260429
DTSTAMP:20260420T055246
CREATED:20251231T214836Z
LAST-MODIFIED:20260110T185459Z
UID:6259-1777248000-1777420799@canadianfeminist.com
SUMMARY:8th World Summit on  Women's Health and Cancer Awareness
DESCRIPTION:8th World Summit on \nWomen’s Health and Cancer Awareness\nApril 27-28\, 2026 Vancouver\, Canada\nUniting Science\, Strength\, and Solidarity: Transforming Women’s Health and Conquering Cancer Together\nSexual and Reproductive Health: Empowering Choices\n  \nSexual and reproductive health encompasses a broad range of issues that are fundamental to the well-being and autonomy of individuals\, particularly women. It includes access to comprehensive healthcare services that address contraception\, fertility\, sexually transmitted infections (STIs)\, pregnancy\, childbirth\, and menopause\, among others. Empowering choices in sexual and reproductive health involves ensuring that individuals have the information\, resources\, and support to make informed decisions about their bodies and lives. Key components of sexual and reproductive health empowerment include access to contraception and family planning services. Contraceptive options vary from barrier methods like condoms and diaphragms to hormonal methods such as birth control pills\, patches\, implants\, and intrauterine devices (IUDs). Ensuring access to a range of contraceptive methods allows individuals to choose the option that best suits their needs and preferences. Education plays a crucial role in empowering individuals to make informed decisions about their sexual and reproductive health. Comprehensive sex education programs provide accurate information about anatomy\, contraception\, STIs\, consent\, healthy relationships\, and reproductive rights. Such education helps dispel myths\, reduce stigma\, and promote responsible sexual behaviour.
URL:https://canadianfeminist.com/program/8th-world-summit-on-womens-health-and-cancer-awareness/
LOCATION:Vancouver\, Canada\, Vancouver\, British Columbia\, Canada
CATEGORIES:Upcoming
END:VEVENT
BEGIN:VEVENT
DTSTART;VALUE=DATE:20260513
DTEND;VALUE=DATE:20260515
DTSTAMP:20260420T055246
CREATED:20260110T200106Z
LAST-MODIFIED:20260110T200106Z
UID:6337-1778630400-1778803199@canadianfeminist.com
SUMMARY:International Conference on Women\, Peace\, and Human Rights
DESCRIPTION:The International Academic Research Forum (IARF) is pleased to present the International Conference on Women\, Peace\, and Human Rights\, scheduled to be held on 13th – 14th May 2026 in Kitchener \, Canada. This global academic gathering is dedicated to advancing knowledge and driving innovation across science\, technology\, management\, and related interdisciplinary fields. \nBringing together renowned experts\, researchers\, professionals\, and students\, the conference serves as a platform to share insights\, explore breakthroughs\, and collaborate across disciplines and borders.
URL:https://canadianfeminist.com/program/international-conference-on-women-peace-and-human-rights/
LOCATION:Hybrid\, Kitchener\, Ontario\, Canada
CATEGORIES:Upcoming
END:VEVENT
BEGIN:VEVENT
DTSTART;VALUE=DATE:20260520
DTEND;VALUE=DATE:20260522
DTSTAMP:20260420T055246
CREATED:20251231T213747Z
LAST-MODIFIED:20251231T213747Z
UID:6255-1779235200-1779407999@canadianfeminist.com
SUMMARY:CRHM 2026: International Conference on Reproductive Health and Medicine
DESCRIPTION:ICRHM 2026: International Conference on Reproductive Health and Medicine explores advancements and challenges in reproductive health\, medicine\, and rights\, including family planning\, healthcare\, endocrinology\, and reproductive hazards. \nTopics\n\nFamily planning services\nReproductive health\nContraceptives-birth control\nWomen’s healthcare\nReproductive endocrinology\nReproductive medicine\nReproductive ageing\nReproductive toxicology\nMale reproductive cancers\nWomen reproductive cancers\nReproductive hazards for female workers\nReproductive hazards\nSexual and Reproductive Health and Rights\nLifestyle factors and reproductive stress\nEthical\, legal and social issues in reproductive health\nGovernance and accountability\nSRH integration in health systems
URL:https://canadianfeminist.com/program/crhm-2026-international-conference-on-reproductive-health-and-medicine/
LOCATION:Vancouver\, Canada\, Vancouver\, British Columbia\, Canada
CATEGORIES:Upcoming
END:VEVENT
BEGIN:VEVENT
DTSTART;VALUE=DATE:20260521
DTEND;VALUE=DATE:20260525
DTSTAMP:20260420T055246
CREATED:20251231T194206Z
LAST-MODIFIED:20251231T195037Z
UID:6237-1779321600-1779667199@canadianfeminist.com
SUMMARY:Human Rights Summit – Canada 2026
DESCRIPTION:  \n  \n \n\n\n\n\n\n\n\n\n\n\n\n\n\n\nYoung changemakers from around the world are invited to apply for the Human Rights Summit 2026 —a transformative global gathering dedicated to the advancement of the Universal Declaration of Human Rights (1948):\nSet in one of the world’s most vibrant and inclusive cities\, this immersive experience will bring together passionate individuals to explore how education serves as the foundation of freedom\, equality\, and global progress.\n\n\n\n\n\n\n\n\n\n\n\n\n\n\n\n\n\n\n\n\n\n\n\nProgram Updates\n\n\n\n\n\n\n\n\n\n\n\n\nProgram Dates:\nCheck in: 21 May 2026\nCheck out: 24 May 2026 \nVenue: University of British Columbia \nNumber of Seats:\n25 Fully Funded\n40 Partially Sponsored\n40 Self Sponsored\n45 Conference Access Passes (FREE) \nEligible Country: All countries \nFinal Results: 15 December 2025 \nInvitation Letters Issued: 15–30 December 2025
URL:https://canadianfeminist.com/program/human-rights-summit-canada-2026/
LOCATION:University of British Columbia\, British Columbia\, Canada
CATEGORIES:Upcoming
END:VEVENT
BEGIN:VEVENT
DTSTART;VALUE=DATE:20260617
DTEND;VALUE=DATE:20260620
DTSTAMP:20260420T055246
CREATED:20260110T190515Z
LAST-MODIFIED:20260110T190515Z
UID:6320-1781654400-1781913599@canadianfeminist.com
SUMMARY:Annual Clinical & Scientific Conference (ACSC 2026) – Society of Obstetricians and Gynaecologists of Canada
DESCRIPTION:  \nThe SOGC’s Annual Clinical and Scientific Conference (ACSC) is the premier continuing medical education event in Canada for obstetrics and gynaecology\, bringing together the largest gathering of health care professionals working in the field of women’s health.
URL:https://canadianfeminist.com/program/annual-clinical-scientific-conference-acsc-2026-society-of-obstetricians-and-gynaecologists-of-canada/
LOCATION:Westin Ottawa & Online\, Ottawa\, Ontario\, Canada
CATEGORIES:Upcoming
END:VEVENT
BEGIN:VEVENT
DTSTART;VALUE=DATE:20260711
DTEND;VALUE=DATE:20260715
DTSTAMP:20260420T055246
CREATED:20251231T212333Z
LAST-MODIFIED:20251231T212333Z
UID:6249-1783728000-1784073599@canadianfeminist.com
SUMMARY:Zonta International Convention
DESCRIPTION:  \nZonta International Convention\nDate: July 11–14\, 2026\nLocation: Vancouver\, BC\nDetails: Global convention advancing women’s rights and empowerment.
URL:https://canadianfeminist.com/program/zonta-international-convention/
CATEGORIES:Upcoming
END:VEVENT
BEGIN:VEVENT
DTSTART;VALUE=DATE:20260722
DTEND;VALUE=DATE:20260725
DTSTAMP:20260420T055246
CREATED:20251231T220024Z
LAST-MODIFIED:20251231T220024Z
UID:6265-1784678400-1784937599@canadianfeminist.com
SUMMARY:Prisme Conference (LGBTQ2+ Lawyers)
DESCRIPTION:  \nUnity in Law: Shaping the Future of 2SLGBTQ+ Rights — Join Prisme 2026\nThe Canadian Association of LGBTQ2S+ Lawyers (Call-Acal) invites you to attend the fifth Prisme Conference\, Canada’s annual 2SLGBTQ+ law conference. Prisme 2026 will take place in Halifax\, Nova Scotia at the Halifax Convention Centre.
URL:https://canadianfeminist.com/program/prisme-conference-lgbtq2-lawyers/
LOCATION:Halifax Convention Centre\, Halifax\, Nova Scotia\, Canada
CATEGORIES:Upcoming
END:VEVENT
BEGIN:VEVENT
DTSTART;VALUE=DATE:20261210
DTEND;VALUE=DATE:20261211
DTSTAMP:20260420T055246
CREATED:20251231T220306Z
LAST-MODIFIED:20251231T220306Z
UID:6269-1796860800-1796947199@canadianfeminist.com
SUMMARY:Human Rights Day
DESCRIPTION:Human Rights Day\nDate: December 10 (annual)\nLocation: Global\nDetails: Marks adoption of Universal Declaration of Human Rights.
URL:https://canadianfeminist.com/program/human-rights-day/
CATEGORIES:Upcoming
END:VEVENT
END:VCALENDAR