BEGIN:VCALENDAR
VERSION:2.0
PRODID:-//Canadian Feminist - ECPv6.15.20//NONSGML v1.0//EN
CALSCALE:GREGORIAN
METHOD:PUBLISH
X-WR-CALNAME:Canadian Feminist
X-ORIGINAL-URL:https://canadianfeminist.com
X-WR-CALDESC:Events for Canadian Feminist
REFRESH-INTERVAL;VALUE=DURATION:PT1H
X-Robots-Tag:noindex
X-PUBLISHED-TTL:PT1H
BEGIN:VTIMEZONE
TZID:UTC
BEGIN:STANDARD
TZOFFSETFROM:+0000
TZOFFSETTO:+0000
TZNAME:UTC
DTSTART:20250101T000000
END:STANDARD
END:VTIMEZONE
BEGIN:VTIMEZONE
TZID:America/New_York
BEGIN:DAYLIGHT
TZOFFSETFROM:-0500
TZOFFSETTO:-0400
TZNAME:EDT
DTSTART:20250309T070000
END:DAYLIGHT
BEGIN:STANDARD
TZOFFSETFROM:-0400
TZOFFSETTO:-0500
TZNAME:EST
DTSTART:20251102T060000
END:STANDARD
BEGIN:DAYLIGHT
TZOFFSETFROM:-0500
TZOFFSETTO:-0400
TZNAME:EDT
DTSTART:20260308T070000
END:DAYLIGHT
BEGIN:STANDARD
TZOFFSETFROM:-0400
TZOFFSETTO:-0500
TZNAME:EST
DTSTART:20261101T060000
END:STANDARD
BEGIN:DAYLIGHT
TZOFFSETFROM:-0500
TZOFFSETTO:-0400
TZNAME:EDT
DTSTART:20270314T070000
END:DAYLIGHT
BEGIN:STANDARD
TZOFFSETFROM:-0400
TZOFFSETTO:-0500
TZNAME:EST
DTSTART:20271107T060000
END:STANDARD
END:VTIMEZONE
BEGIN:VTIMEZONE
TZID:Asia/Karachi
BEGIN:STANDARD
TZOFFSETFROM:+0500
TZOFFSETTO:+0500
TZNAME:PKT
DTSTART:20250101T000000
END:STANDARD
END:VTIMEZONE
BEGIN:VEVENT
DTSTART;VALUE=DATE:20260521
DTEND;VALUE=DATE:20260525
DTSTAMP:20260420T060042
CREATED:20251231T194206Z
LAST-MODIFIED:20251231T195037Z
UID:6237-1779321600-1779667199@canadianfeminist.com
SUMMARY:Human Rights Summit – Canada 2026
DESCRIPTION:  \n  \n \n\n\n\n\n\n\n\n\n\n\n\n\n\n\nYoung changemakers from around the world are invited to apply for the Human Rights Summit 2026 —a transformative global gathering dedicated to the advancement of the Universal Declaration of Human Rights (1948):\nSet in one of the world’s most vibrant and inclusive cities\, this immersive experience will bring together passionate individuals to explore how education serves as the foundation of freedom\, equality\, and global progress.\n\n\n\n\n\n\n\n\n\n\n\n\n\n\n\n\n\n\n\n\n\n\n\nProgram Updates\n\n\n\n\n\n\n\n\n\n\n\n\nProgram Dates:\nCheck in: 21 May 2026\nCheck out: 24 May 2026 \nVenue: University of British Columbia \nNumber of Seats:\n25 Fully Funded\n40 Partially Sponsored\n40 Self Sponsored\n45 Conference Access Passes (FREE) \nEligible Country: All countries \nFinal Results: 15 December 2025 \nInvitation Letters Issued: 15–30 December 2025
URL:https://canadianfeminist.com/program/human-rights-summit-canada-2026/
LOCATION:University of British Columbia\, British Columbia\, Canada
CATEGORIES:Upcoming
END:VEVENT
BEGIN:VEVENT
DTSTART;VALUE=DATE:20260520
DTEND;VALUE=DATE:20260522
DTSTAMP:20260420T060042
CREATED:20251231T213747Z
LAST-MODIFIED:20251231T213747Z
UID:6255-1779235200-1779407999@canadianfeminist.com
SUMMARY:CRHM 2026: International Conference on Reproductive Health and Medicine
DESCRIPTION:ICRHM 2026: International Conference on Reproductive Health and Medicine explores advancements and challenges in reproductive health\, medicine\, and rights\, including family planning\, healthcare\, endocrinology\, and reproductive hazards. \nTopics\n\nFamily planning services\nReproductive health\nContraceptives-birth control\nWomen’s healthcare\nReproductive endocrinology\nReproductive medicine\nReproductive ageing\nReproductive toxicology\nMale reproductive cancers\nWomen reproductive cancers\nReproductive hazards for female workers\nReproductive hazards\nSexual and Reproductive Health and Rights\nLifestyle factors and reproductive stress\nEthical\, legal and social issues in reproductive health\nGovernance and accountability\nSRH integration in health systems
URL:https://canadianfeminist.com/program/crhm-2026-international-conference-on-reproductive-health-and-medicine/
LOCATION:Vancouver\, Canada\, Vancouver\, British Columbia\, Canada
CATEGORIES:Upcoming
END:VEVENT
BEGIN:VEVENT
DTSTART;VALUE=DATE:20260513
DTEND;VALUE=DATE:20260515
DTSTAMP:20260420T060042
CREATED:20260110T200106Z
LAST-MODIFIED:20260110T200106Z
UID:6337-1778630400-1778803199@canadianfeminist.com
SUMMARY:International Conference on Women\, Peace\, and Human Rights
DESCRIPTION:The International Academic Research Forum (IARF) is pleased to present the International Conference on Women\, Peace\, and Human Rights\, scheduled to be held on 13th – 14th May 2026 in Kitchener \, Canada. This global academic gathering is dedicated to advancing knowledge and driving innovation across science\, technology\, management\, and related interdisciplinary fields. \nBringing together renowned experts\, researchers\, professionals\, and students\, the conference serves as a platform to share insights\, explore breakthroughs\, and collaborate across disciplines and borders.
URL:https://canadianfeminist.com/program/international-conference-on-women-peace-and-human-rights/
LOCATION:Hybrid\, Kitchener\, Ontario\, Canada
CATEGORIES:Upcoming
END:VEVENT
BEGIN:VEVENT
DTSTART;VALUE=DATE:20260427
DTEND;VALUE=DATE:20260429
DTSTAMP:20260420T060042
CREATED:20251231T214836Z
LAST-MODIFIED:20260110T185459Z
UID:6259-1777248000-1777420799@canadianfeminist.com
SUMMARY:8th World Summit on  Women's Health and Cancer Awareness
DESCRIPTION:8th World Summit on \nWomen’s Health and Cancer Awareness\nApril 27-28\, 2026 Vancouver\, Canada\nUniting Science\, Strength\, and Solidarity: Transforming Women’s Health and Conquering Cancer Together\nSexual and Reproductive Health: Empowering Choices\n  \nSexual and reproductive health encompasses a broad range of issues that are fundamental to the well-being and autonomy of individuals\, particularly women. It includes access to comprehensive healthcare services that address contraception\, fertility\, sexually transmitted infections (STIs)\, pregnancy\, childbirth\, and menopause\, among others. Empowering choices in sexual and reproductive health involves ensuring that individuals have the information\, resources\, and support to make informed decisions about their bodies and lives. Key components of sexual and reproductive health empowerment include access to contraception and family planning services. Contraceptive options vary from barrier methods like condoms and diaphragms to hormonal methods such as birth control pills\, patches\, implants\, and intrauterine devices (IUDs). Ensuring access to a range of contraceptive methods allows individuals to choose the option that best suits their needs and preferences. Education plays a crucial role in empowering individuals to make informed decisions about their sexual and reproductive health. Comprehensive sex education programs provide accurate information about anatomy\, contraception\, STIs\, consent\, healthy relationships\, and reproductive rights. Such education helps dispel myths\, reduce stigma\, and promote responsible sexual behaviour.
URL:https://canadianfeminist.com/program/8th-world-summit-on-womens-health-and-cancer-awareness/
LOCATION:Vancouver\, Canada\, Vancouver\, British Columbia\, Canada
CATEGORIES:Upcoming
END:VEVENT
BEGIN:VEVENT
DTSTART;VALUE=DATE:20260411
DTEND;VALUE=DATE:20260412
DTSTAMP:20260420T060042
CREATED:20251231T213041Z
LAST-MODIFIED:20251231T221101Z
UID:6252-1775865600-1775951999@canadianfeminist.com
SUMMARY:MinoFest '26: The Racialized Reproductive and Maternal Health Conference
DESCRIPTION:Overview\n\n\n\n\n\nMinoFest returns April 11\, 2026\, uniting professionals and communities to advance racialized perinatal health through equity\, data\, and care\n\n\n\nMinoFest returns on April 11\, 2026\, uniting healthcare professionals\, advocates\, researchers\, policymakers\, technology leaders\, and parents to advance racialized perinatal and reproductive health. Hosted by Mino Care\, the conference is Canada’s leading forum dedicated to equity\, innovation\, and community driven care. Rooted in the meaning of Mino as Our Mothers\, MinoFest creates space to examine systemic inequities and promote culturally safe approaches to perinatal health. \nThe 2026 program focuses on navigating data and systems in perinatal and reproductive healthcare. Attendees will explore how data is collected\, governed\, protected\, and mobilized to improve outcomes for racialized communities. Through keynote presentations\, expert panels\, and more than 40 breakout sessions\, participants will engage in evidence based and ethical conversations that support collaboration\, accountability\, and meaningful systems change across sectors.
URL:https://canadianfeminist.com/program/minofest-26-the-racialized-reproductive-and-maternal-health-conference/
LOCATION:North York General Hospital\, 4001 Leslie Street\, Toronto\, Ontario\, M2K 1E1\, Canada
CATEGORIES:Upcoming
END:VEVENT
BEGIN:VEVENT
DTSTART;VALUE=DATE:20260324
DTEND;VALUE=DATE:20260326
DTSTAMP:20260420T060042
CREATED:20260110T185147Z
LAST-MODIFIED:20260110T185147Z
UID:6313-1774310400-1774483199@canadianfeminist.com
SUMMARY:Vitally Important – Canada’s National Women’s Health Summit
DESCRIPTION:  \nVitally Important: National Women’s Health Summit 2026 will bring together health advocates\, experts and allies for two days of dynamic presentations\, research highlights\, and bold conversations — spotlighting what’s new in women’s health research\, innovation\, and system-level change\, and where we go from here. It’s a national platform to exchange ideas\, accelerate progress\, and chart new ways of working toward a healthier future for all women in Canada.
URL:https://canadianfeminist.com/program/vitally-important-canadas-national-womens-health-summit/
LOCATION:Toronto Reference Library\, 789 Yonge St.\, Toronto\, Ontario\, M4W 2G8\, Canada
CATEGORIES:Upcoming
END:VEVENT
BEGIN:VEVENT
DTSTART;VALUE=DATE:20260318
DTEND;VALUE=DATE:20260323
DTSTAMP:20260420T060042
CREATED:20251231T215521Z
LAST-MODIFIED:20251231T215521Z
UID:6261-1773792000-1774223999@canadianfeminist.com
SUMMARY:Fierté Canada Pride Conference
DESCRIPTION:  \nThis national gathering will once again bring together 2SLGBTQIA+ organizers and community leaders from across the country for connection\, learning\, and collaboration. \n 
URL:https://canadianfeminist.com/program/fierte-canada-pride-conference/
LOCATION:The Westin – Calgary\, Alberta\, Calgary\, Alberta\, Canada
CATEGORIES:Upcoming
END:VEVENT
BEGIN:VEVENT
DTSTART;VALUE=DATE:20260308
DTEND;VALUE=DATE:20260310
DTSTAMP:20260420T060042
CREATED:20260110T193217Z
LAST-MODIFIED:20260110T193217Z
UID:6328-1772928000-1773100799@canadianfeminist.com
SUMMARY:Winnipeg Women’s Conference 2026
DESCRIPTION:• Focus: Keynotes and breakout sessions on leadership\, finances\, negotiation\, cultural empowerment\, mentorship. \nFor women of diverse backgrounds and cultures to connect\, collaborate and network on a variety of issues affecting their lives. \nConference: March 9th\, 2026TD Experience: March 8th\, 2026 \n 
URL:https://canadianfeminist.com/program/winnipeg-womens-conference-2026/
LOCATION:Canadian Museum for Human Rights\, Winnipeg\, Manitoba\, Canada
CATEGORIES:Upcoming
END:VEVENT
BEGIN:VEVENT
DTSTART;VALUE=DATE:20260308
DTEND;VALUE=DATE:20260309
DTSTAMP:20260420T060042
CREATED:20251231T220518Z
LAST-MODIFIED:20251231T220518Z
UID:6271-1772928000-1773014399@canadianfeminist.com
SUMMARY:International Women’s Day
DESCRIPTION:Date: March 8 (annual)\nLocation: Global\nDetails: Celebrates achievements and gender equality.
URL:https://canadianfeminist.com/program/international-womens-day/
CATEGORIES:Upcoming
END:VEVENT
BEGIN:VEVENT
DTSTART;TZID=Asia/Karachi:20260305T120000
DTEND;TZID=Asia/Karachi:20260305T160000
DTSTAMP:20260420T060042
CREATED:20260124T142953Z
LAST-MODIFIED:20260124T143334Z
UID:6389-1772712000-1772726400@canadianfeminist.com
SUMMARY:Faculty of Health Sciences Women’s Symposium and May Cohen Lecture 2026
DESCRIPTION:Faculty of Health Sciences Women’s Symposium and May Cohen Lecture 2026\nThe Faculty of Health Sciences Women’s Symposium and May Cohen Lecture returns on Thursday\, March 5\, 2026\, as a virtual CPD program. \nThe 2026 Women’s Symposium brings together women\, non-binary individuals\, and allies to explore strategies for advancing gender equity in our workplaces. \nThis year\, we welcome keynote co-speakers Dr. Lorraine Lipscombe and Dr. Diana Sherifali. Dr. Lipscombe is the Director of the University of Toronto’s Novo Nordisk Network for Healthy Populations\, bringing together academics and community stakeholders to address chronic disease burdens through community-based research. Dr. Sherifali is an associate professor in the School of Nursing and Health Research Methods\, Evidence and Impact at McMaster University\, and the Scientific Lead of the McMaster Evidence Review and Synthesis Team. Her work has supported the development of national guidelines for the Canadian Task Force on Preventive Health Care and Diabetes Canada. \n\nDetails\n\nDate: Thursday\, March 5\, 2026\nTime: 12:00–16:00 EST\nDelivery: Virtual\nRegister Online\n\n\nTarget Audience\nIndividuals interested in advancing women within academia and healthcare. \n  \nLearning Objectives\nBy attending this activity\, participants will be able to: \n\nArticulate strategies for women’s health promotion and chronic disease prevention that address structural inequities and foster community partnerships.\nDiscuss innovative applications in health coaching for clinical practice\, education\, and research.\nEmpower allies across McMaster Faculty of Health Sciences and in surrounding healthcare communities to take action to advance women’s leadership.\n\nDetails and times are subject to change. Program times are in Eastern Time (ET)
URL:https://canadianfeminist.com/program/faculty-of-health-sciences-womens-symposium-and-may-cohen-lecture-2026/
LOCATION:Online\, Canada
CATEGORIES:Upcoming
END:VEVENT
BEGIN:VEVENT
DTSTART;TZID=Asia/Karachi:20260226T110000
DTEND;TZID=Asia/Karachi:20260226T153000
DTSTAMP:20260420T060042
CREATED:20260124T142343Z
LAST-MODIFIED:20260124T142343Z
UID:6385-1772103600-1772119800@canadianfeminist.com
SUMMARY:StrikeUP 2026 — Canada’s Largest Digital Conference for Women Entrepreneurs
DESCRIPTION:StrikeUP is Canada’s flagship digital conference convening women entrepreneurs and the ecosystem partners that support them\, with a united vision of equity and inclusive economic growth through entrepreneurship. \nFounded by Nventure with the support of the Government of Canada and presented in partnership with The Scotiabank Women Initiative® and Export Development Canada\, StrikeUP reflects the diversity and ambition of Canada’s women entrepreneurs as an accessible\, free and world-class program focused on growth\, funding\, digital adoption and global opportunities.
URL:https://canadianfeminist.com/program/strikeup-2026-canadas-largest-digital-conference-for-women-entrepreneurs/
LOCATION:Online\, Canada
CATEGORIES:Upcoming
END:VEVENT
BEGIN:VEVENT
DTSTART;VALUE=DATE:20260226
DTEND;VALUE=DATE:20260227
DTSTAMP:20260420T060042
CREATED:20260110T194618Z
LAST-MODIFIED:20260110T194707Z
UID:6332-1772064000-1772150399@canadianfeminist.com
SUMMARY:International Conference on Human Rights (ICHR - 2026)
DESCRIPTION:International Conference on Human Rights (ICHR – 2026) is a prestigious event organized with a motivation to provide an excellent international platform for the academicians\, researchers\, engineers\, industrial participants and budding students around the world to SHARE their research findings with the global experts. ICHR 2026 will be held in Abbotsford\, Canada on 26th Feb 2026. \nThe key intention of ICHR  is to provide opportunity for the global participants to share their ideas and experience in person with their peers expected to join from different parts on the world. In addition this gathering will help the delegates to establish research or business relations as well as to find international linkage for future collaborations in their career path. We hope that ICHR  outcome will lead to significant contributions to the knowledge base in these up-to-date scientific fields in scope. \nThis Conference is organized by Canadian Association for Scientific Research and Publication. The conference would offer a large number of invited lectures from renowned speakers all over the country. The Best paper awards will be given for the papers judged to make the most significant contribution to the conference.
URL:https://canadianfeminist.com/program/international-conference-on-human-rights-ichr-2026/
LOCATION:Sandman Hotel Abbotsford Airport\, 3010 Mt. Lehman Road\, Abbotsford\, British Columbia\, V4X 2L4\, Canada
CATEGORIES:Upcoming
END:VEVENT
BEGIN:VEVENT
DTSTART;VALUE=DATE:20260108
DTEND;VALUE=DATE:20260111
DTSTAMP:20260420T060042
CREATED:20251231T194707Z
LAST-MODIFIED:20251231T195124Z
UID:6243-1767830400-1768089599@canadianfeminist.com
SUMMARY:International Women Empowerment Conference
DESCRIPTION:Date: Jan 8–10\, 2026\nLocation: Toronto Grand Convention Centre\nDetails: Global women’s empowerment and leadership forum. \n  \nSales Ended
URL:https://canadianfeminist.com/program/international-women-empowerment-conference/
LOCATION:Toronto Grand Convention Centre\, Ontario\, Canada
CATEGORIES:Upcoming
END:VEVENT
END:VCALENDAR